BEGIN:VCALENDAR
VERSION:2.0
PRODID:-//Pride of Baltimore - ECPv6.15.20//NONSGML v1.0//EN
CALSCALE:GREGORIAN
METHOD:PUBLISH
X-ORIGINAL-URL:https://pride2.org
X-WR-CALDESC:Events for Pride of Baltimore
REFRESH-INTERVAL;VALUE=DURATION:PT1H
X-Robots-Tag:noindex
X-PUBLISHED-TTL:PT1H
BEGIN:VTIMEZONE
TZID:America/New_York
BEGIN:DAYLIGHT
TZOFFSETFROM:-0500
TZOFFSETTO:-0400
TZNAME:EDT
DTSTART:20180311T070000
END:DAYLIGHT
BEGIN:STANDARD
TZOFFSETFROM:-0400
TZOFFSETTO:-0500
TZNAME:EST
DTSTART:20181104T060000
END:STANDARD
BEGIN:DAYLIGHT
TZOFFSETFROM:-0500
TZOFFSETTO:-0400
TZNAME:EDT
DTSTART:20190310T070000
END:DAYLIGHT
BEGIN:STANDARD
TZOFFSETFROM:-0400
TZOFFSETTO:-0500
TZNAME:EST
DTSTART:20191103T060000
END:STANDARD
BEGIN:DAYLIGHT
TZOFFSETFROM:-0500
TZOFFSETTO:-0400
TZNAME:EDT
DTSTART:20200308T070000
END:DAYLIGHT
BEGIN:STANDARD
TZOFFSETFROM:-0400
TZOFFSETTO:-0500
TZNAME:EST
DTSTART:20201101T060000
END:STANDARD
BEGIN:DAYLIGHT
TZOFFSETFROM:-0500
TZOFFSETTO:-0400
TZNAME:EDT
DTSTART:20210314T070000
END:DAYLIGHT
BEGIN:STANDARD
TZOFFSETFROM:-0400
TZOFFSETTO:-0500
TZNAME:EST
DTSTART:20211107T060000
END:STANDARD
BEGIN:DAYLIGHT
TZOFFSETFROM:-0500
TZOFFSETTO:-0400
TZNAME:EDT
DTSTART:20220313T070000
END:DAYLIGHT
BEGIN:STANDARD
TZOFFSETFROM:-0400
TZOFFSETTO:-0500
TZNAME:EST
DTSTART:20221106T060000
END:STANDARD
BEGIN:DAYLIGHT
TZOFFSETFROM:-0500
TZOFFSETTO:-0400
TZNAME:EDT
DTSTART:20230312T070000
END:DAYLIGHT
BEGIN:STANDARD
TZOFFSETFROM:-0400
TZOFFSETTO:-0500
TZNAME:EST
DTSTART:20231105T060000
END:STANDARD
END:VTIMEZONE
BEGIN:VEVENT
DTSTART;TZID=America/New_York:20220428T173000
DTEND;TZID=America/New_York:20220428T203000
DTSTAMP:20260419T162452
CREATED:20220405T151128Z
LAST-MODIFIED:20220405T191430Z
UID:29982-1651167000-1651177800@pride2.org
SUMMARY:Spring Sailabration 2022
DESCRIPTION:Join us to celebrate the beauty of Pride of Baltimore II and the art of sailing at Spring Sailabration 2022! Tickets are just $75 ($65 before April 7) for you to enjoy Music from Marc Evans and Soul Centered; savor food and sip beverages from local establishments; peruse and bid on “The Art of Sailing” silent auction items\, and spend some time aboard Pride and meeting the crew. \nBuy your ticket now! \n  \n 
URL:https://pride2.org/event/spring-sailabration-2022/
LOCATION:The Baltimore Museum of Industry\, 1415 Key Highway\, Baltimore\, MD\, 21230\, United States
GEO:39.2739681;-76.6016358
X-APPLE-STRUCTURED-LOCATION;VALUE=URI;X-ADDRESS=The Baltimore Museum of Industry 1415 Key Highway Baltimore MD 21230 United States;X-APPLE-RADIUS=500;X-TITLE=1415 Key Highway:geo:-76.6016358,39.2739681
END:VEVENT
BEGIN:VEVENT
DTSTART;TZID=America/New_York:20200430T173000
DTEND;TZID=America/New_York:20200430T203000
DTSTAMP:20260419T162452
CREATED:20200227T223647Z
LAST-MODIFIED:20200318T155500Z
UID:28201-1588267800-1588278600@pride2.org
SUMMARY:Spring Sailabration 2020 Canceled
DESCRIPTION:Our Spring Sailabration\, in its original format\, has been canceled this year. Watch for the date for our 2021 Spring Sailabration. In the meantime\, please support our food and beverage partners who were going to serve up some of their best at our event. Order carry-out or buy gift certificates! We want to see all of our food and beverage partners open for business when life starts to get back to normal. \n \nEven after sailing for more than three decades\, Pride still turns heads wherever she goes! Her captain and crew work hard to ensure that she will look her best for years to come. We will be celebrating the beauty of Pride and the art of sailing at our Spring Sailabration on April 30\, 2020\, the 32nd anniversary of her launch. Please join us! \n\nEnjoy live music from Soul Centered LIVE\nSavor and sip food and beverages from local establishments\n\nBaltimore Spirits Company\nBarcocina\nBanditos Bar & Kitchen\nBond Street Social\nCava Mezze\nThe Center Club\nCharm City Meadworks\nThe Choptank\nHull Street Blues Cafe\nKooper’s Tavern\nLa Colombe\nLyon Distilling Co.\nMama’s on the Half Shell\nPenny Black\nPhillips Seafood\nRaven Beer\nRed Star\nWaterfront Hotel\nWayward Smokehouse\n\n\nBid on “art of sailing” silent auction items\n\n(Watch for items to be listed)\n\n\nSpend some time with the crew on Pride II — she’ll be docked right outside the BMI\nHave fun!\n\nWe are so very grateful for our Spring Sailabration food and beverage partners above and our sponsors: \n\nAcme Paper & Supply Co.\nAssociation of Maryland Pilots\nMD Strategic Consulting\nPropeller Club of Baltimore\nSpinSheet\nWaverly Management
URL:https://pride2.org/event/2020sailabration/
LOCATION:The Baltimore Museum of Industry\, 1415 Key Highway\, Baltimore\, MD\, 21230\, United States
ATTACH;FMTTYPE=image/jpeg:https://pride2.org/wp-content/uploads/2020/02/20190922_Pride-Homecoming_Credit-Mark-Baskeyfield-Glenn-Dale-MD.jpg
ORGANIZER;CN="Pride of Baltimore":MAILTO:pride2@pride2.org
GEO:39.2739681;-76.6016358
X-APPLE-STRUCTURED-LOCATION;VALUE=URI;X-ADDRESS=The Baltimore Museum of Industry 1415 Key Highway Baltimore MD 21230 United States;X-APPLE-RADIUS=500;X-TITLE=1415 Key Highway:geo:-76.6016358,39.2739681
END:VEVENT
BEGIN:VEVENT
DTSTART;TZID=America/New_York:20190411T173000
DTEND;TZID=America/New_York:20190411T203000
DTSTAMP:20260419T162452
CREATED:20190221T171928Z
LAST-MODIFIED:20190411T175530Z
UID:27421-1555003800-1555014600@pride2.org
SUMMARY:Spring Sailabration April 11
DESCRIPTION:Pride’s Spring Sailabration\, our annual fundraiser\, is back this year! Pride of Baltimore II turned 30 in 2018\, so we will be toasting to Pride‘s future this year. Please join us! \nTickets this year are just $75 and available at the door! \n\nEnjoy live music by the Eastport Oyster Boys\nSavor and sip food and beverages from local establishments\n\n101 Baltimore\nAtlantic Wine & Spirits\n\n\nBanditos Bar & Kitchen\nBertha’s\nCava Mezze\nHull Street Blues Cafe\nLyon Distilling Co.\nPenny Black\nPhillips Seafood\nRaven Beer\nSofi’s Crepes\nWatUSee Foods\nWayward Smokehouse\n\n\nJoin in a champagne toast to Pride of Baltimore II\nBid on live and silent auction items\n\nPride of Baltimore II pennant\nPrivate charter on Pride II\nPride of Baltimore II watch\, courtesy of Towson Watch Co.\nPride II experience (surprise\, but this will the first time it has been offered)\nMany more great items & experiences\n\n\nSpend some time with the crew on Pride II — she’ll be docked right outside the BMI\nHave fun!\n\nWe are so very grateful for our Spring Sailabration food and beverage partners above and our sponsors: \n\nAssociation of Maryland Pilots\nH&S Bakery\nMD Strategic Consulting\nPaul and Victoria Ferber\nPropeller Club of Baltimore\nSharon White Hove\nSpinSheet\n\n  \n 
URL:https://pride2.org/event/2019sailabration/
LOCATION:The Baltimore Museum of Industry\, 1415 Key Highway\, Baltimore\, MD\, 21230\, United States
ATTACH;FMTTYPE=image/jpeg:https://pride2.org/wp-content/uploads/2019/02/2017Apr_Spring-Sailabration_credit-Aaron-Geis.jpg
ORGANIZER;CN="Pride of Baltimore":MAILTO:pride2@pride2.org
GEO:39.2739681;-76.6016358
X-APPLE-STRUCTURED-LOCATION;VALUE=URI;X-ADDRESS=The Baltimore Museum of Industry 1415 Key Highway Baltimore MD 21230 United States;X-APPLE-RADIUS=500;X-TITLE=1415 Key Highway:geo:-76.6016358,39.2739681
END:VEVENT
END:VCALENDAR